BEGIN:VCALENDAR
VERSION:2.0
PRODID:-//Журнал &quot;Русский мир. ru&quot; - ECPv6.15.17.1//NONSGML v1.0//EN
CALSCALE:GREGORIAN
METHOD:PUBLISH
X-WR-CALNAME:Журнал &quot;Русский мир. ru&quot;
X-ORIGINAL-URL:https://rusmirjournal.ru
X-WR-CALDESC:Мероприятия для Журнал &quot;Русский мир. ru&quot;
REFRESH-INTERVAL;VALUE=DURATION:PT1H
X-Robots-Tag:noindex
X-PUBLISHED-TTL:PT1H
BEGIN:VTIMEZONE
TZID:Europe/Moscow
BEGIN:STANDARD
TZOFFSETFROM:+0300
TZOFFSETTO:+0300
TZNAME:MSK
DTSTART:20250101T000000
END:STANDARD
END:VTIMEZONE
BEGIN:VEVENT
DTSTART;TZID=Europe/Moscow:20260422T000000
DTEND;TZID=Europe/Moscow:20260422T235959
DTSTAMP:20260422T020429
CREATED:20260421T052528Z
LAST-MODIFIED:20260421T052537Z
UID:5485-1776816000-1776902399@rusmirjournal.ru
SUMMARY:1870: родился Владимир Ильич Ульянов (Ленин)
DESCRIPTION:Владимир Ильич Ульянов (Ленин)\n\n\n\n22 (10) апреля 1870 года родился Владимир Ильич Ульянов (Ленин). Революционер\, теоретик марксизма\, основатель Коммунистической партии и Советского Союза. Один из самых значимых и влиятельных государственных деятелей в мировой истории. \n\n\n\nЧитайте статью: \n\n\n\n«Создатель СССР».
URL:https://rusmirjournal.ru/event/lenin/
CATEGORIES:Люди
ATTACH;FMTTYPE=image/jpeg:https://rusmirjournal.ru/wp-content/uploads/2026/04/36058.jpg
END:VEVENT
BEGIN:VEVENT
DTSTART;TZID=Europe/Moscow:20260422T000000
DTEND;TZID=Europe/Moscow:20260422T235959
DTSTAMP:20260422T020429
CREATED:20260421T053046Z
LAST-MODIFIED:20260421T053053Z
UID:5488-1776816000-1776902399@rusmirjournal.ru
SUMMARY:1817: родилась Варвара Асенкова
DESCRIPTION:Варвара Асенкова\n\n\n\n22 апреля 1817 года родилась Варвара Асенкова\, талантливая актриса\, которая умерла в самом начале своего творческого расцвета. Асенкова принадлежит к числу актеров\, избежавших забвения. О ней писали и при жизни\, и после смерти. Ей посвящен фильм «Зеленая карета»\, снятый в 1967 году режиссером Яном Фридом по сценарию Александра Гладкова. В фильме роль Асенковой исполнила Наталья Тенякова. \n\n\n\nТри книги написаны об Асенковой. Одна из них — театроведа Татьяны Родиной — заканчивается так: «Асенкова стала воплощением замечательного типа русской актрисы\, чье вдохновенное искусство и высокие человеческие качества\, сливаясь\, образуют один прекрасный и светлый образ». \n\n\n\nЧитайте статью Дмитрия Урушева: \n\n\n\n«Ангел Варенька».
URL:https://rusmirjournal.ru/event/asenkova/
CATEGORIES:Люди
ATTACH;FMTTYPE=image/jpeg:https://rusmirjournal.ru/wp-content/uploads/2026/04/14912.jpg
END:VEVENT
BEGIN:VEVENT
DTSTART;TZID=Europe/Moscow:20260422T000000
DTEND;TZID=Europe/Moscow:20260422T235959
DTSTAMP:20260422T020429
CREATED:20260421T053513Z
LAST-MODIFIED:20260421T053520Z
UID:5491-1776816000-1776902399@rusmirjournal.ru
SUMMARY:1908: родился Иван Ефремов
DESCRIPTION:Иван Ефремов\n\n\n\n22 апреля 1908 года родился Иван Ефремов. Никто из писателей его поколения не соответствует так точно собственной стилистике — холодноватой\, загадочной\, восходящей то ли к викторианской Британии\, то ли вообще к античности с ее культом силы и совершенства. \n\n\n\nЧитайте статью Анны Гамаловой: \n\n\n\n«И лицо\, и мысли\, и одежда».
URL:https://rusmirjournal.ru/event/efremov/
ATTACH;FMTTYPE=image/jpeg:https://rusmirjournal.ru/wp-content/uploads/2026/04/20822.jpg
END:VEVENT
END:VCALENDAR