BEGIN:VCALENDAR
VERSION:2.0
PRODID:-//Журнал &quot;Русский мир. ru&quot; - ECPv6.15.17.1//NONSGML v1.0//EN
CALSCALE:GREGORIAN
METHOD:PUBLISH
X-ORIGINAL-URL:https://rusmirjournal.ru
X-WR-CALDESC:Мероприятия для Журнал &quot;Русский мир. ru&quot;
REFRESH-INTERVAL;VALUE=DURATION:PT1H
X-Robots-Tag:noindex
X-PUBLISHED-TTL:PT1H
BEGIN:VTIMEZONE
TZID:Europe/Moscow
BEGIN:STANDARD
TZOFFSETFROM:+0300
TZOFFSETTO:+0300
TZNAME:MSK
DTSTART:20250101T000000
END:STANDARD
END:VTIMEZONE
BEGIN:VEVENT
DTSTART;TZID=Europe/Moscow:20260419T000000
DTEND;TZID=Europe/Moscow:20260419T235959
DTSTAMP:20260421T201952
CREATED:20260417T035910Z
LAST-MODIFIED:20260419T045154Z
UID:5368-1776556800-1776643199@rusmirjournal.ru
SUMMARY:1783: Крым был присоединен к России
DESCRIPTION:Крым. Карта\n\n\n\n8 (19) апреля 1783 года императрицей Екатериной Великой был подписан Манифест о присоединении к Российской державе Крымского полуострова\, Тамани и Кубани и образовании Таврической области под управлением князя Г.А. Потемкина\, получившего за свои труды титул Таврический. \n\n\n\nУже весной были предприняты срочные меры по выбору гавани для будущего Черноморского флота. Была выбрана бухта Ахтиар\, недалеко от развалин Херсонеса Таврического. В 1784 году Екатерина II повелела основать здесь «военный порт с адмиралтейством\, верфью\, крепостью и сделать его военным городом». Был заложен порт-крепость\, которому дали имя Севастополь. \n\n\n\nТурция признала присоединение Крыма к России лишь в декабре 1783 года (8 января 1784 года)\, когда был подписан «Акт о мире\, торговле и границах обоих государств». Россия этим актом подтверждала принадлежность Турции крепостей Очаков и Суджук-кале. \n\n\n\nИз европейских стран с протестом выступила только Франция. Коллегия иностранных дел России напомнила французам\, что Екатерина II в свое время попустительски отнеслась к захвату Францией Корсики\, происшедшему в 1768 году.
URL:https://rusmirjournal.ru/event/krim-2/
CATEGORIES:Важно,События
ATTACH;FMTTYPE=image/jpeg:https://rusmirjournal.ru/wp-content/uploads/2026/04/1522.jpg
END:VEVENT
BEGIN:VEVENT
DTSTART;TZID=Europe/Moscow:20260420T000000
DTEND;TZID=Europe/Moscow:20260420T235959
DTSTAMP:20260421T201952
CREATED:20260419T044022Z
LAST-MODIFIED:20260419T044030Z
UID:5406-1776643200-1776729599@rusmirjournal.ru
SUMMARY:1989: утверждены алфавиты карельского и вепсского языков
DESCRIPTION:Вепсы. Фото: Максим Славецкий\n\n\n\n20 апреля 1989 года Постановлением Совета Министров Карельской АССР были утверждены алфавиты карельского и вепсского языков. Карелы и вепсы — коренные народы Республики Карелия. Импульс развитию культуры этих народов дало утверждение алфавитов карельского и вепсского языков в 1989 году. Ежегодно 20 апреля отмечается День карельской и вепсской письменности. \n\n\n\nСогласно результатам переписи населения\, которая прошла осенью 2021 года\, в России осталось чуть более 32\,4 тысячи карелов\, а в Карелии — 25\,9 тысячи. В сравнении с всероссийской переписью 2010 года их стало меньше на 28 тысяч человек\, или в 1\,9 раза. \n\n\n\nМногие эксперты отмечают\, что настолько большие изменения связаны не с сокращением численности этого народа\, а с технологией онлайн-переписи\, которая внесла свои искажения. Вепсов осталось гораздо меньше. Из 6 тысяч представителей этого народа 4 с половиной тысячи проживают в Карелии. О вепсах читайте материал Виолы Лехнович «В краю духов и кормилок«\, он опубликован в январском номере журнала «Русский мир.ru» за 2020 год. \n\n\n\nИстория письменности этих народов знала периоды кириллической записи\, но современные алфавиты разработаны на основе латиницы. Языки коренных народов Карелии изучают в детских садах и школах республики\, знания по национальным языкам получают студенты Петрозаводского государственного университета. В Петрозаводске\, а также в других городах республики организованы языковые курсы. \n\n\n\nРегулярно проходит также акция «Диктант на карельском и вепсском языках»\, участие в которой ежегодно принимает более 1200 жителей не только Республики Карелия\, но и Тверской\, Ленинградской и Вологодской областей.
URL:https://rusmirjournal.ru/event/vepsi/
CATEGORIES:Праздники
ATTACH;FMTTYPE=image/jpeg:https://rusmirjournal.ru/wp-content/uploads/2026/04/38584.jpg
END:VEVENT
BEGIN:VEVENT
DTSTART;TZID=Europe/Moscow:20260420T000000
DTEND;TZID=Europe/Moscow:20260420T235959
DTSTAMP:20260421T201952
CREATED:20260419T045135Z
LAST-MODIFIED:20260419T045143Z
UID:5410-1776643200-1776729599@rusmirjournal.ru
SUMMARY:1832: первое переливание крови в России. Национальный День донора
DESCRIPTION:Врачи Александр Алянский и Ольга Макаренко рады каждому потенциальному донору\, ведь именно он может оказаться для кого-то спасителем. Фото: Андрей Семашко\n\n\n\n20 апреля 1832 года молодой петербургский акушер Андрей Мартынович Вольф впервые успешно провёл переливание крови роженице с акушерским кровотечением. Жизнь женщине была спасена\, благодаря грамотной работе врача и донорской крови мужа пациентки. В 2007 году на «круглом столе» по проблемам донорства и службы крови\, состоявшемся в Государственной Думе РФ\, был утвержден Национальный День донора\, который отмечается ежегодно 20 апреля. \n\n\n\nЧитайте статью Любови Румянцевой: \n\n\n\n«Единокровные».
URL:https://rusmirjournal.ru/event/dendonora/
CATEGORIES:События
ATTACH;FMTTYPE=image/jpeg:https://rusmirjournal.ru/wp-content/uploads/2026/04/11440.jpg
END:VEVENT
BEGIN:VEVENT
DTSTART;TZID=Europe/Moscow:20260420T000000
DTEND;TZID=Europe/Moscow:20260420T235959
DTSTAMP:20260421T201952
CREATED:20260419T050122Z
LAST-MODIFIED:20260419T050131Z
UID:5415-1776643200-1776729599@rusmirjournal.ru
SUMMARY:1888: родился Николай Агнивцев
DESCRIPTION:Николай Агнивцев\n\n\n\nОн «губил свое дарование на подмостках театриков-кабаре»\, как писали критики. Он развлекал публику стихотворными анекдотами. Сох от тоски по Родине в эмиграции. Писал для советской эстрады и цирка\, запомнился миллионам читателей великолепными стихотворениями для детей. На его слова писал музыку сам Дунаевский. Это все — Николай Агнивцев. «Поэт\, и больше ничего»\, как он всегда указывал в анкетах. \n\n\n\nНиколай Яковлевич Агнивцев родился 20 апреля 1888 года\, родом из дворян. Его отец был юристом\, и по долгу судебной службы семье приходилось часто переезжать. Мать Николай потерял в раннем возрасте\, он учился в Умани\, Владивостоке\, Москве\, а окончить гимназию в 1906 году ему довелось в Благовещенске. \n\n\n\nБудучи студентом историко-филологического факультета Санкт-Петербургского университета\, Агнивцев дебютировал в 1908 году в журнале Н. Шебуева «Весна». В 1913 году вышла его книга «Студенческие песни»\, в 1915-м — патриотический сборник «Под звон мечей». Но по-настоящему читатели его полюбили за легкомысленные\, забавные анекдоты\, которые Николай блистательно рассказывал в поэтической форме. Позднее\, в 1921 году\, в Берлине он издаст эти анекдоты в книге «Мои песенки». \n\n\n\nПокушав как-то травку\, \n\n\n\nЗашел слон по делам \n\n\n\nВ фарфоровую лавку \n\n\n\nИ повернулся там! \n\n\n\nПоэт печатался в «Сатириконе»\, «Попрыгунье-Стрекозе»\, «Солнце России»\, в «журнале красивой жизни» — «Столица и усадьба». \n\n\n\nНиколай расцвел в поэтическом смысле\, работая для театров-кабаре\, выступая в литературных кафе и артистических ресторанах. Куплеты на стихи Агнивцева исполняли Александр Вертинский и Николай Ходотов\, да и самого поэта публика узнавала. В январе 1917 года в Петрограде вместе с режиссером Константином Марджанишвили (Марджановым) и актером Федором Курихиным создал театр-кабаре «Би-ба-бо». Театр успешно гастролировал по России\, практически единственным драматургом театра был Николай Яковлевич. Стихи Агнивцева\, звучавшие со сцены\, в 1921 году вошли в книжку «Санкт-Петербург»\, изданную в Тифлисе. В 1923 году сборник был переиздан в Берлине под названием «Блистательный Санкт-Петербург». Критики ругали его за то\, что он губил свое дарование на театральных подмостках\, но именно в стихах того периода появилась глубина\, ностальгия\, любовь к своему городу. \n\n\n\nСкажите мне\, что можеть быть \n\n\n\nПрекрасней Невской перспективы\, \n\n\n\nКогда огней вечерних нить \n\n\n\nНачнет размеренно чертить \n\n\n\nВ тумане красные извивы?! \n\n\n\nНиколай Агнивцев эмигрировал в 1921 году. И здесь\, вдали от Родины\, он написал пронзительное стихотворение «Коробка спичек». \n\n\n\nКак вздрогнул мозг! Как сердце сжалось! \n\n\n\nВесь день без слов! Вся ночь без сна! \n\n\n\nСегодня в руки мне попалась \n\n\n\nКоробка спичек Лапшина… \n\n\n\nАх\, сердце — раб былых привычек! \n\n\n\nИ перед ним виденьем\, вдруг \n\n\n\nИз маленькой коробки спичек \n\n\n\nВстал весь гигантский Петербург… \n\n\n\nУже в 1923 году Агнивцев вернулся в Россию. Он пытался приспособиться\, работал очень много. Его легкий слог послужил ему и теперь\, он начал писать для детей. И так хорошо\, что за несколько лет были изданы два десятка книг. Он работал для цирка\, для театра. \n\n\n\nУмер Николай Агнивцев в 1932 году в Москве\, от туберкулеза. Ему было 44 года.
URL:https://rusmirjournal.ru/event/agnivzev/
CATEGORIES:Люди
ATTACH;FMTTYPE=image/jpeg:https://rusmirjournal.ru/wp-content/uploads/2026/04/11303.jpg
END:VEVENT
BEGIN:VEVENT
DTSTART;TZID=Europe/Moscow:20260420T000000
DTEND;TZID=Europe/Moscow:20260420T235959
DTSTAMP:20260421T201952
CREATED:20260419T050816Z
LAST-MODIFIED:20260419T050851Z
UID:5420-1776643200-1776729599@rusmirjournal.ru
SUMMARY:1942: закончилась битва за Москву
DESCRIPTION:Битва за Москву\n\n\n\n20 апреля 1942 года — дата окончания битвы за Москву\, которая длилась с 30 сентября 1941 года. Германия потерпела первое крупное поражение. \n\n\n\nВ ходе битвы советские войска отстояли столицу и Центральный промышленный район. Ее результаты способствовали укреплению антигитлеровской коалиции\, а также заставили правительства Японии и Турции воздержаться от вступления в войну на стороне Германии. \n\n\n\nК началу битвы положение советских войск было тяжелым. Противник захватил Прибалтику\, Белоруссию\, Молдавию\, большую часть Украины\, подошел к Ленинграду и блокировал его. Попытка захватить Москву с ходу провалилась\, после чего гитлеровское командование разработало план наступательной операции «Тайфун». План предусматривал расчленение советской обороны тремя ударами\, окружение войск западнее Вязьмы и восточнее Брянска. Москву предполагалось охватить ударами с севера и юга\, центральный удар был запланирован «в лоб». \n\n\n\nНаступавшая группа армий «Центр» имела в своем составе 1\,8 миллиона человек\, свыше 14 тысяч орудий и минометов\, 1\,7 тысячи танков и 1390 самолетов. Советских войск было недостаточно\, оборону вели 1\,25 миллиона человек\, 7\,6 тысячи орудий и минометов\, 990 танков\, 677 самолетов. \n\n\n\nНемецкое наступление началось 30 сентября 1941 года. Четыре советские армии Западного и Резервного фронтов были окружены под Вязьмой\, при этом своими действиями они сковали 28 немецких дивизий. 3 октября противник захватил Орел\, а 6 октября — Брянск. Советские войска вынуждены были прорываться из окружения под Брянском\, к концу октября немцы вышли к Туле. 17 октября немцы взяли Калинин (Тверь). Уже в середине ноября бои велись на подступах к Москве. 23 ноября был оставлен Клин. Враг захватил Солнечногорск\, Яхрому\, Красную Поляну. К концу ноября немцы вышли к каналу Москва—Волга\, подошли к Кашире\, охватили с востока Тулу. \n\n\n\nБитва за Москву\n\n\n\nНа этих рубежах продвижение немецких войск было остановлено. 27 ноября был нанесен первый контрудар — в районе Каширы\, а 29 ноября — второй\, севернее Москвы. 3–5 декабря были нанесены контрудары в районах Яхромы\, Красной Поляны и Крюкова. \n\n\n\nСтойкая\, маневренная\, активная оборона Красной армии остановила немецкое наступление и дала возможность перебросить в район обороны резервные армии. Контрнаступление началось 5 декабря. Войска Калининского фронта через два дня вышли к Волге\, продвинувшись на 60–120 километров. 6 декабря ударили армии Западного фронта\, были освобождены Истра\, Клин\, Волоколамск\, враг был отброшен на запад на 90–110 километров. Под Тулой немецкое командование из-за угрозы окружения начало отвод войск. \n\n\n\nК январю 1942 года враг был отброшен на 100–250 километров\, было освобождено 11 тысяч населенных пунктов. Наступление началось на огромном пространстве\, советские войска вклинились в оборону противника на стыке немецких групп армий «Север» и «Центр» и попытались окружить армии группы «Центр». Однако немцы успели вырваться из намечавшегося котла. Были освобождены Московская и Тульская области\, многие районы Калининской и Смоленской областей. Враг потерял 500 тысяч человек\, 1\,3 тысячи танков\, 2\,5 тысячи орудий и другой техники. \n\n\n\nДля советских войск победа в Битве за Москву обошлась дорого. Потери превысили 900 тысяч человек. \n\n\n\nИсход битвы привел к психологическому перелому среди советских солдат и среди населения. Миф о непобедимости немецкой армии был разрушен. \n\n\n\nОколо 40 частей и соединений получили звание гвардейских\, 36 тысяч советских воинов были награждены орденами и медалями\, из них 110 человек удостоены звания Героя Советского Союза. Была учреждена медаль «За оборону Москвы»\, которой награждено более миллиона человек.
URL:https://rusmirjournal.ru/event/bitvazamoskwu/
CATEGORIES:Важно,События
ATTACH;FMTTYPE=image/jpeg:https://rusmirjournal.ru/wp-content/uploads/2026/04/11305.jpg
END:VEVENT
BEGIN:VEVENT
DTSTART;TZID=Europe/Moscow:20260421T000000
DTEND;TZID=Europe/Moscow:20260421T235959
DTSTAMP:20260421T201952
CREATED:20260419T135156Z
LAST-MODIFIED:20260419T135205Z
UID:5435-1776729600-1776815999@rusmirjournal.ru
SUMMARY:1735: родился Иван Кулибин
DESCRIPTION:Иван Петрович Кулибин\n\n\n\n21 апреля (10-го по старому стилю) 1735 года в Нижегородском уезде родился Иван Петрович Кулибин. Появившись на свет в семье мелкого торговца\, он стал выдающимся механиком-изобретателем\, прозванным «нижегородским Архимедом». \n\n\n\nМастера приблизили к императорскому двору\, Кулибин стал заведующим механической мастерской Петербургской академии наук. Под его руководством для научных целей мастера изготавливали станки\, астрономические\, физические и навигационные приборы. \n\n\n\nНа счету Ивана Петровича множество изобретений. Например\, водоходное судно\, которое могло бы подниматься вверх по реке за счет течения самой реки. Хитроумная конструкция включала якорь с цепью и колесо с лопастями\, которое накручивало трос на вал. Конструкция могла бы облегчить или заменить тяжелый труд бурлаков\, но Департамент водных коммуникаций при Александре I отверг идею и запретил финансирование — водоходы так и не получили распространения. \n\n\n\nОн изобрел винтовой лифт\, внес вклад в теорию и практику строительства мостов\, изобрел прожектор\, самобеглую коляску и протез ноги\, придумал новый тип сеялки и усовершенствовал оптический телеграф. К сожалению\, большинство его полезных изобретений не профинансировали\, зато проекты для развлечения знати — фейерверки\, механические игрушки и автоматоны — были реализованы. Тем не менее Кулибин был гением\, а его фамилия стала в нашей стране именем нарицательным.
URL:https://rusmirjournal.ru/event/kulibin/
CATEGORIES:Люди
ATTACH;FMTTYPE=image/jpeg:https://rusmirjournal.ru/wp-content/uploads/2026/04/1541_1.jpg
END:VEVENT
BEGIN:VEVENT
DTSTART;TZID=Europe/Moscow:20260422T000000
DTEND;TZID=Europe/Moscow:20260422T235959
DTSTAMP:20260421T201952
CREATED:20260421T052528Z
LAST-MODIFIED:20260421T052537Z
UID:5485-1776816000-1776902399@rusmirjournal.ru
SUMMARY:1870: родился Владимир Ильич Ульянов (Ленин)
DESCRIPTION:Владимир Ильич Ульянов (Ленин)\n\n\n\n22 (10) апреля 1870 года родился Владимир Ильич Ульянов (Ленин). Революционер\, теоретик марксизма\, основатель Коммунистической партии и Советского Союза. Один из самых значимых и влиятельных государственных деятелей в мировой истории. \n\n\n\nЧитайте статью: \n\n\n\n«Создатель СССР».
URL:https://rusmirjournal.ru/event/lenin/
CATEGORIES:Люди
ATTACH;FMTTYPE=image/jpeg:https://rusmirjournal.ru/wp-content/uploads/2026/04/36058.jpg
END:VEVENT
BEGIN:VEVENT
DTSTART;TZID=Europe/Moscow:20260422T000000
DTEND;TZID=Europe/Moscow:20260422T235959
DTSTAMP:20260421T201952
CREATED:20260421T053046Z
LAST-MODIFIED:20260421T053053Z
UID:5488-1776816000-1776902399@rusmirjournal.ru
SUMMARY:1817: родилась Варвара Асенкова
DESCRIPTION:Варвара Асенкова\n\n\n\n22 апреля 1817 года родилась Варвара Асенкова\, талантливая актриса\, которая умерла в самом начале своего творческого расцвета. Асенкова принадлежит к числу актеров\, избежавших забвения. О ней писали и при жизни\, и после смерти. Ей посвящен фильм «Зеленая карета»\, снятый в 1967 году режиссером Яном Фридом по сценарию Александра Гладкова. В фильме роль Асенковой исполнила Наталья Тенякова. \n\n\n\nТри книги написаны об Асенковой. Одна из них — театроведа Татьяны Родиной — заканчивается так: «Асенкова стала воплощением замечательного типа русской актрисы\, чье вдохновенное искусство и высокие человеческие качества\, сливаясь\, образуют один прекрасный и светлый образ». \n\n\n\nЧитайте статью Дмитрия Урушева: \n\n\n\n«Ангел Варенька».
URL:https://rusmirjournal.ru/event/asenkova/
CATEGORIES:Люди
ATTACH;FMTTYPE=image/jpeg:https://rusmirjournal.ru/wp-content/uploads/2026/04/14912.jpg
END:VEVENT
BEGIN:VEVENT
DTSTART;TZID=Europe/Moscow:20260422T000000
DTEND;TZID=Europe/Moscow:20260422T235959
DTSTAMP:20260421T201952
CREATED:20260421T053513Z
LAST-MODIFIED:20260421T053520Z
UID:5491-1776816000-1776902399@rusmirjournal.ru
SUMMARY:1908: родился Иван Ефремов
DESCRIPTION:Иван Ефремов\n\n\n\n22 апреля 1908 года родился Иван Ефремов. Никто из писателей его поколения не соответствует так точно собственной стилистике — холодноватой\, загадочной\, восходящей то ли к викторианской Британии\, то ли вообще к античности с ее культом силы и совершенства. \n\n\n\nЧитайте статью Анны Гамаловой: \n\n\n\n«И лицо\, и мысли\, и одежда».
URL:https://rusmirjournal.ru/event/efremov/
ATTACH;FMTTYPE=image/jpeg:https://rusmirjournal.ru/wp-content/uploads/2026/04/20822.jpg
END:VEVENT
BEGIN:VEVENT
DTSTART;TZID=Europe/Moscow:20260423T000000
DTEND;TZID=Europe/Moscow:20260423T235959
DTSTAMP:20260421T201952
CREATED:20260421T054405Z
LAST-MODIFIED:20260421T054916Z
UID:5494-1776902400-1776988799@rusmirjournal.ru
SUMMARY:1985: в СССР началась перестройка
DESCRIPTION:Перестройка\n\n\n\n23 апреля 1985 года на Пленуме ЦК КПСС генеральным секретарем Михаилом Горбачевым было объявлено о необходимости совершенствования существующей экономической системы. Начались реформы\, которые позднее были названы перестройкой. \n\n\n\nПервоначально речь шла об «ускорении социально-экономического развития страны»\, идеи распустить СССР не было. Изменения носили административный характер. Термин «перестройка» появился в мае 1985 года: на встрече с активом Ленинградского горкома партии Горбачев впервые употребил это слово для обозначения процесса экономических\, политических и социальных изменений. Слово было подхвачено прессой. \n\n\n\nБыл провозглашен курс на «совершенствование социализма». Но через два года начались масштабные реформы. Была объявлена политика «гласности» — снятие запретов и цензуры в СМИ\, узаконено частное предпринимательство и введена доктрина «нового мышления» — курс на сближение с Западом. Демократизация была названа возвращением к «ленинским нормам»\, «идеалам Октября» и «социализму с человеческим лицом». \n\n\n\nБыли опубликованы запрещенные ранее романы\, в обществе началась эйфория. Однако к концу 80-х годов начала нарастать экономическая неустойчивость на фоне сепаратистских настроений и вспышек насилия на национальных окраинах. В 1991 году была ликвидирована власть КПСС и развалился СССР.
URL:https://rusmirjournal.ru/event/perestroika/
CATEGORIES:Важно,События
ATTACH;FMTTYPE=image/jpeg:https://rusmirjournal.ru/wp-content/uploads/2026/04/1547.jpg
END:VEVENT
END:VCALENDAR