BEGIN:VCALENDAR
VERSION:2.0
PRODID:-//Журнал &quot;Русский мир. ru&quot; - ECPv6.15.17.1//NONSGML v1.0//EN
CALSCALE:GREGORIAN
METHOD:PUBLISH
X-ORIGINAL-URL:https://rusmirjournal.ru
X-WR-CALDESC:Мероприятия для Журнал &quot;Русский мир. ru&quot;
REFRESH-INTERVAL;VALUE=DURATION:PT1H
X-Robots-Tag:noindex
X-PUBLISHED-TTL:PT1H
BEGIN:VTIMEZONE
TZID:Europe/Moscow
BEGIN:STANDARD
TZOFFSETFROM:+0300
TZOFFSETTO:+0300
TZNAME:MSK
DTSTART:20250101T000000
END:STANDARD
END:VTIMEZONE
BEGIN:VEVENT
DTSTART;TZID=Europe/Moscow:20260425T000000
DTEND;TZID=Europe/Moscow:20260425T235959
DTSTAMP:20260422T140229
CREATED:20260422T070910Z
LAST-MODIFIED:20260422T070919Z
UID:5649-1777075200-1777161599@rusmirjournal.ru
SUMMARY:1883: родился Семен Буденный
DESCRIPTION:Семен Буденный\n\n\n\n25 (13) апреля 1883 года родился Семен Михайлович Буденный. Маршал СССР\, участник пяти войн\, полный кавалер Георгиевского креста\, трижды Герой Советского Союза\, кавалер восьми орденов Ленина. \n\n\n\nРодился в крестьянской семье на хуторе Козюрин Калмыцкого округа области войска Донского (в настоящее время территория Ростовской области). Родители родом из Воронежской губернии. С детства Семен обучался верховой езде и владению саблей\, участвовал в показательных выступлениях по джигитовке. \n\n\n\nСемен Буденный награжден Георгиевскими крестами и медалями всех четырех степеней\n\n\n\nНа военной службе с 1903 года\, служил в 46-м Донском казачьем полку\, участвовал в Русско-японской войне 1904–1905 годов. После окончания войны остался на сверхсрочную\, после обучения был произведен в унтер-офицеры. По одним сведениям\, Буденный был уволен в запас в 1908 году и работал в коннозаводческих хозяйствах. По другим данным\, Семен Михайлович продолжал службу в Приморском драгунском полку до 1914 года. \n\n\n\nС началом Первой мировой войны был направлен в 18-й драгунский Северский полк Кавказской кавалерийской дивизии. Воевал на германском\, австрийском и кавказском фронтах\, за храбрость награжден Георгиевскими крестами четырех степеней и Георгиевскими медалями четырех степеней. На кавказском фронте\, где Русская армия воевала с армией Османской империи\, выучил турецкий язык. \n\n\n\nМаршал Советского Союза С.М. Буденный принимает военный парад на Красной площади 7 ноября 1941 года\n\n\n\nЛетом 1917 года вместе с Кавказской дивизией прибыл в Минск\, где был избран председателем полкового комитета и заместителем председателя дивизионного комитета. После Октябрьской революции вернулся на Дон\, был избран членом окружного исполкома. В 1918-м вступил в ряды Красной армии. Во время Гражданской войны карьерный рост Буденного был стремителен: уже в марте 1919-го он командовал кавалерийской дивизией\, а с ноября того же года возглавил 1-ю Конную армию. Это соединение сыграло огромную роль в разгроме белых под Царицыном и на Дону\, в боях с белополяками и против врангелевской армии в Крыму. \n\n\n\nСуворовцы и Буденный\, 1970 год\n\n\n\nПосле окончания Гражданской войны Буденный занимал различные должности в руководстве РККА\, окончил Военную академию им. М.В. Фрунзе\, командовал Московским военным округом. С августа 1940 года — 1-й заместитель наркома обороны СССР. Во время Великой Отечественной войны входил в состав Ставки ВГК\, сменил несколько должностей в руководстве Западного\, Северо-Кавказского\, Резервного фронтов и других соединений\, но как командующий крупными оперативно-стратегическими объединениями не состоялся. С 1943 года был командующим кавалерией Красной армии\, одновременно оставаясь членом Высшего военного совета НКО СССР. \n\n\n\nСемен Михайлович Буденный скончался 26 октября 1973 года на 91-м году жизни. Похоронен на Красной площади в Москве у Кремлевской стены.
URL:https://rusmirjournal.ru/event/budennii/
CATEGORIES:Люди
ATTACH;FMTTYPE=image/jpeg:https://rusmirjournal.ru/wp-content/uploads/2026/04/36072.jpg
END:VEVENT
BEGIN:VEVENT
DTSTART;TZID=Europe/Moscow:20260425T000000
DTEND;TZID=Europe/Moscow:20260425T235959
DTSTAMP:20260422T140229
CREATED:20260422T072441Z
LAST-MODIFIED:20260422T072451Z
UID:5655-1777075200-1777161599@rusmirjournal.ru
SUMMARY:1945: встреча на Эльбе
DESCRIPTION:Встреча на Эльбе\n\n\n\n25 апреля 1945 года в 13.30 по московскому времени в районе города Торгау на реке Эльбе произошла легендарная встреча союзников: советских и американских войск. Это событие стало высшей точкой отношений между СССР и США в ходе Второй мировой войны. \n\n\n\nВторой лейтенант Робертсон и лейтенант Сильвашко на фоне надписи «Восток встречается с Западом»\, символизирующей историческую встречу союзников на Эльбе\n\n\n\nВ событии участвовали войска 1-го Украинского фронта армии СССР и 1-й армии США. Американский патруль под командованием первого лейтенанта Альберта Коцебу пересек Эльбу и встретил советских солдат под командованием подполковника Александра Гордеева. В тот же день еще один американский патруль\, которым командовал второй лейтенант армии США Уильям Робертсон\, встретился с советскими солдатами лейтенанта Александра Сильвашко на разрушенном мосту. \n\n\n\nВстреча не была неожиданной: союзники обменивались радиограммами\, следили за продвижением друг друга по картам. Общение происходило на русском языке: в армии США были военнослужащие\, владеющие им. Интересно\, что немцы пытались заглушить разговоры между советскими и американскими радистами. \n\n\n\nРобертсон и Сильвашко в Москве тридцать лет спустя\n\n\n\nИнструкция по поведению во время встреч с союзниками содержалась в директиве маршала Жукова. Советские военнослужащие не должны были инициировать проведение дружеских встреч\, но если «отметить» встречу предложат американцы\, то отказываться не следовало. Во всех случаях надо было быть образцом дисциплинированности и порядка\, включая соблюдение формы одежды и опрятного вида.
URL:https://rusmirjournal.ru/event/vstrechanaelbe/
CATEGORIES:Важно,События
ATTACH;FMTTYPE=image/jpeg:https://rusmirjournal.ru/wp-content/uploads/2026/04/1553.jpg
END:VEVENT
BEGIN:VEVENT
DTSTART;TZID=Europe/Moscow:20260426T000000
DTEND;TZID=Europe/Moscow:20260426T235959
DTSTAMP:20260422T140229
CREATED:20260422T080556Z
LAST-MODIFIED:20260422T080604Z
UID:5658-1777161600-1777247999@rusmirjournal.ru
SUMMARY:1939: родился Владислав Дворжецкий
DESCRIPTION:Владислав Дворжецкий\n\n\n\n26 апреля 1939 года в Омске родился Владислав Дворжецкий. Он дебютировал в кино в 33 года и прожил всего 39 лет\, но успел стать одним из самых узнаваемых актеров в отечественном кинематографе. \n\n\n\nВладислав Дворжецкий благодаря своей необычной внешности и таланту — один из самых мистических советских актеров. Его творчество вызывает большой интерес и у современных зрителей\, многие считают его игру магической. \n\n\n\nЧитайте заметку: \n\n\n\n«Актерство как магия».
URL:https://rusmirjournal.ru/event/dvvorchezki/
CATEGORIES:Люди
ATTACH;FMTTYPE=image/jpeg:https://rusmirjournal.ru/wp-content/uploads/2026/04/36077.jpg
END:VEVENT
BEGIN:VEVENT
DTSTART;TZID=Europe/Moscow:20260426T000000
DTEND;TZID=Europe/Moscow:20260426T235959
DTSTAMP:20260422T140229
CREATED:20260422T081048Z
LAST-MODIFIED:20260422T081057Z
UID:5662-1777161600-1777247999@rusmirjournal.ru
SUMMARY:1986: авария на Чернобыльской АЭС
DESCRIPTION:Вертолет над разрушенным реактором Чернобыльской АЭС\n\n\n\n26 апреля 1986 года в результате аварии был разрушен четвертый энергоблок на Чернобыльской атомной электростанции. Облако радиоактивных материалов\, прежде всего радионуклидов йода и цезия\, рассеялось по большей части Европы. Больше всего осадков выпало на территории Белоруссии\, России и Украины. \n\n\n\nНепосредственно в момент аварии погиб 31 человек. В ближайшие две недели от облучения погибли до 80 человек. 134 человека перенесли лучевую болезнь. Более 115 тысяч человек из 30-километровой зоны было эвакуировано. В ликвидации последствий аварии участвовало более 600 тысяч человек. \n\n\n\nАвария имела огромные экономические и общественно-политические последствия\, эти обстоятельства повлияли на ход расследования. Официально причинами аварии названы конструктивные особенности реактора\, а также недостатки в его эксплуатации и обслуживании. Причем ошибки были допущены на всех уровнях\, от персонала станции до руководства ядерной энергетикой страны.
URL:https://rusmirjournal.ru/event/chernibil/
CATEGORIES:Важно,События
ATTACH;FMTTYPE=image/jpeg:https://rusmirjournal.ru/wp-content/uploads/2026/04/1557.jpg
END:VEVENT
BEGIN:VEVENT
DTSTART;TZID=Europe/Moscow:20260426T000000
DTEND;TZID=Europe/Moscow:20260426T235959
DTSTAMP:20260422T140229
CREATED:20260422T081626Z
LAST-MODIFIED:20260422T081634Z
UID:5665-1777161600-1777247999@rusmirjournal.ru
SUMMARY:2007: в Таллине был демонтирован Бронзовый солдат
DESCRIPTION:Памятник Воину-освободителю Таллина от немецко-фашистских захватчиков\n\n\n\nПамятник Воину-освободителю Таллина от немецко-фашистских захватчиков\, простоявший в центре эстонской столицы без малого шестьдесят лет\, был демонтирован в ночь с 26 на 27 апреля 2007 года. 30 апреля фигура Бронзового солдата была установлена на Военном кладбище\, в 2 километрах от первоначального расположения. \n\n\n\nБыли проведены раскопки и эксгумация останков захороненных\, всего обнаружено 12 захоронений. Часть мемориала была в уменьшенном виде частично воссоздана к концу июня 2007 года. \n\n\n\nРешение эстонского правительства вызвало огромный общественный резонанс как в самой стране\, так и за рубежом. Переносу памятника предшествовали акции протеста\, а также несколько драк между националистами и защитниками памятника. В ходе волнений было задержано около 1\,2 тысячи человек\, более 160 человек получили ранения различной степени тяжести. Был убит гражданин России Дмитрий Ганин. Трагические события апреля 2007 года в народе получили название «бронзовые ночи».
URL:https://rusmirjournal.ru/event/bronzovisoldat/
CATEGORIES:События
ATTACH;FMTTYPE=image/jpeg:https://rusmirjournal.ru/wp-content/uploads/2026/04/1562.jpg
END:VEVENT
BEGIN:VEVENT
DTSTART;TZID=Europe/Moscow:20260426T000000
DTEND;TZID=Europe/Moscow:20260426T235959
DTSTAMP:20260422T140229
CREATED:20260422T081958Z
LAST-MODIFIED:20260422T082057Z
UID:5670-1777161600-1777247999@rusmirjournal.ru
SUMMARY:1985: восстание в лагере Бадабер
DESCRIPTION:Восстание в лагере Бадабер\n\n\n\n26 апреля 1985 года советские и афганские военнопленные подняли восстание в пакистанском лагере Бадабер. Неравный бой длился два дня\, надежды на успех у восставших не было. Восставшие погибли\, разгромив лагерь и уничтожив большое количество моджахедов\, пакистанских солдат и американских инструкторов. \n\n\n\nЧитайте заметку: \n\n\n\n«Восстание в лагере Бадабер».
URL:https://rusmirjournal.ru/event/badaber/
CATEGORIES:События
ATTACH;FMTTYPE=image/jpeg:https://rusmirjournal.ru/wp-content/uploads/2026/04/11323.jpg
END:VEVENT
END:VCALENDAR