BEGIN:VCALENDAR
VERSION:2.0
PRODID:-//Журнал &quot;Русский мир. ru&quot; - ECPv6.15.17.1//NONSGML v1.0//EN
CALSCALE:GREGORIAN
METHOD:PUBLISH
X-ORIGINAL-URL:https://rusmirjournal.ru
X-WR-CALDESC:Мероприятия для Журнал &quot;Русский мир. ru&quot;
REFRESH-INTERVAL;VALUE=DURATION:PT1H
X-Robots-Tag:noindex
X-PUBLISHED-TTL:PT1H
BEGIN:VTIMEZONE
TZID:Europe/Moscow
BEGIN:STANDARD
TZOFFSETFROM:+0300
TZOFFSETTO:+0300
TZNAME:MSK
DTSTART:20250101T000000
END:STANDARD
END:VTIMEZONE
BEGIN:VEVENT
DTSTART;TZID=Europe/Moscow:20260422T000000
DTEND;TZID=Europe/Moscow:20260422T235959
DTSTAMP:20260422T035018
CREATED:20260421T053046Z
LAST-MODIFIED:20260421T053053Z
UID:5488-1776816000-1776902399@rusmirjournal.ru
SUMMARY:1817: родилась Варвара Асенкова
DESCRIPTION:Варвара Асенкова\n\n\n\n22 апреля 1817 года родилась Варвара Асенкова\, талантливая актриса\, которая умерла в самом начале своего творческого расцвета. Асенкова принадлежит к числу актеров\, избежавших забвения. О ней писали и при жизни\, и после смерти. Ей посвящен фильм «Зеленая карета»\, снятый в 1967 году режиссером Яном Фридом по сценарию Александра Гладкова. В фильме роль Асенковой исполнила Наталья Тенякова. \n\n\n\nТри книги написаны об Асенковой. Одна из них — театроведа Татьяны Родиной — заканчивается так: «Асенкова стала воплощением замечательного типа русской актрисы\, чье вдохновенное искусство и высокие человеческие качества\, сливаясь\, образуют один прекрасный и светлый образ». \n\n\n\nЧитайте статью Дмитрия Урушева: \n\n\n\n«Ангел Варенька».
URL:https://rusmirjournal.ru/event/asenkova/
CATEGORIES:Люди
ATTACH;FMTTYPE=image/jpeg:https://rusmirjournal.ru/wp-content/uploads/2026/04/14912.jpg
END:VEVENT
END:VCALENDAR