BEGIN:VCALENDAR
VERSION:2.0
PRODID:-//Журнал &quot;Русский мир. ru&quot; - ECPv6.15.17.1//NONSGML v1.0//EN
CALSCALE:GREGORIAN
METHOD:PUBLISH
X-WR-CALNAME:Журнал &quot;Русский мир. ru&quot;
X-ORIGINAL-URL:https://rusmirjournal.ru
X-WR-CALDESC:Мероприятия для Журнал &quot;Русский мир. ru&quot;
REFRESH-INTERVAL;VALUE=DURATION:PT1H
X-Robots-Tag:noindex
X-PUBLISHED-TTL:PT1H
BEGIN:VTIMEZONE
TZID:Europe/Moscow
BEGIN:STANDARD
TZOFFSETFROM:+0300
TZOFFSETTO:+0300
TZNAME:MSK
DTSTART:20250101T000000
END:STANDARD
END:VTIMEZONE
BEGIN:VEVENT
DTSTART;TZID=Europe/Moscow:20260122T000000
DTEND;TZID=Europe/Moscow:20260122T235959
DTSTAMP:20260422T040427
CREATED:20260116T175755Z
LAST-MODIFIED:20260116T180057Z
UID:1898-1769040000-1769126399@rusmirjournal.ru
SUMMARY:В 1898 году родился Сергей Эйзенштейн
DESCRIPTION:Сергей Эйзенштейн\n\n\n\n\n\n22 января (10 января по старому стилю) 1898 года в Риге родился Сергей Михайлович Эйзенштейн. Режиссер\, сценарист\, педагог. Он снял всего семь художественных фильмов\, но его работы входят в программы всех учебных заведений\, где готовят кинематографистов\, а фильм «Броненосец «Потемкин» неизменно входит в списки самых значимых картин за всю историю киноискусства. \n\n\n\nЧитайте заметку: \n\n\n\nНоватор кинематографа
URL:https://rusmirjournal.ru/event/eizenstein/
CATEGORIES:Люди
ATTACH;FMTTYPE=image/jpeg:https://rusmirjournal.ru/wp-content/uploads/2026/01/35385.jpg
END:VEVENT
BEGIN:VEVENT
DTSTART;TZID=Europe/Moscow:20260120T000000
DTEND;TZID=Europe/Moscow:20260120T235959
DTSTAMP:20260422T040427
CREATED:20260116T174842Z
LAST-MODIFIED:20260116T180050Z
UID:1892-1768867200-1768953599@rusmirjournal.ru
SUMMARY:В 1883 году родился Павел Филонов
DESCRIPTION:Павел Филонов. Автопортрет. 1911 год\n\n\n\n\n\nПавел Филонов — один из лидеров русского авангарда\, художник-исследователь\, основатель аналитического искусства\, поэт и философ — до обидного мало получил признание как при жизни\, так и после смерти. Его творчество и сегодня вызывает яростные споры искусствоведов\, ведь работы его настолько загадочны\, что ко многим из них до сих пор не найден ключ. \n\n\n\nЧитайте статью Арины Абросимовой: \n\n\n\nНеприступная крепость.
URL:https://rusmirjournal.ru/event/filonov/
CATEGORIES:Люди
ATTACH;FMTTYPE=image/jpeg:https://rusmirjournal.ru/wp-content/uploads/2026/01/38111.jpg
END:VEVENT
BEGIN:VEVENT
DTSTART;TZID=Europe/Moscow:20260116T000000
DTEND;TZID=Europe/Moscow:20260116T235959
DTSTAMP:20260422T040427
CREATED:20260103T101204Z
LAST-MODIFIED:20260108T100046Z
UID:1410-1768521600-1768607999@rusmirjournal.ru
SUMMARY:В 1882 году родился Аристарх Лентулов
DESCRIPTION:16 января 1882 года родился Аристарх Лентулов.\n \n«Русский Ярило» — назвал как-то Лентулова критик Лев Варшавский\, с чем согласились друзья художника — Брюсов\, Волошин\, Бальмонт\, Маяковский\, Хлебников. При сравнении его фотографий\, автопортретов и залитых солнцем картин видна удивительная гармония\, созвучие внешнего и внутреннего: богатырь\, пышущий энергией и здоровьем\, преисполненный жизнелюбия.\nЧитайте статью Арины Абросимовой: \nЭкспериментатор\n 
URL:https://rusmirjournal.ru/event/lentulov/
CATEGORIES:Люди
ATTACH;FMTTYPE=image/jpeg:https://rusmirjournal.ru/wp-content/uploads/2026/01/14300.jpg
END:VEVENT
BEGIN:VEVENT
DTSTART;TZID=Europe/Moscow:20260115T000000
DTEND;TZID=Europe/Moscow:20260115T235959
DTSTAMP:20260422T040427
CREATED:20260103T101100Z
LAST-MODIFIED:20260116T174003Z
UID:1407-1768435200-1768521599@rusmirjournal.ru
SUMMARY:В 1891 году родился Осип Мандельштам
DESCRIPTION:15 января 1891 года родился Осип Мандельштам. \nЖивое воплощение поэзии\, он умел слышать пенье Аонид\, биение крови в сосудах и стук рока в закрытую дверь; умел чувствовать связь времен и соединять их. Но все эти умения были решительно не нужны в эпоху социалистического строительства. \nЧитайте статью Анны Гамаловой:\nИз тяжести недоброй\n \n 
URL:https://rusmirjournal.ru/event/mandelstam/
CATEGORIES:Люди
ATTACH;FMTTYPE=image/jpeg:https://rusmirjournal.ru/wp-content/uploads/2026/01/477.jpg
END:VEVENT
BEGIN:VEVENT
DTSTART;TZID=Europe/Moscow:20260115T000000
DTEND;TZID=Europe/Moscow:20260115T235959
DTSTAMP:20260422T040427
CREATED:20260103T100500Z
LAST-MODIFIED:20260116T173925Z
UID:1405-1768435200-1768521599@rusmirjournal.ru
SUMMARY:В 1795 году родился Александр Грибоедов
DESCRIPTION:15 января 1795 года родился Александр Грибоедов.\nВ короткую жизнь Грибоедова вместилось столько событий\, что хватило бы на две-три жизни. А загадок столько\, что справиться с ними и за два прошедших века не удалось.\nЧитайте статью Ирины Лукьяновой: \nГоре и ум
URL:https://rusmirjournal.ru/event/griboedov/
CATEGORIES:Люди
ATTACH;FMTTYPE=image/jpeg:https://rusmirjournal.ru/wp-content/uploads/2026/01/15214.jpg
END:VEVENT
BEGIN:VEVENT
DTSTART;TZID=Europe/Moscow:20260114T000000
DTEND;TZID=Europe/Moscow:20260114T235959
DTSTAMP:20260422T040427
CREATED:20260101T091800Z
LAST-MODIFIED:20260116T173301Z
UID:1403-1768348800-1768435199@rusmirjournal.ru
SUMMARY:В 1827 году родился Петр Семенов-Тян-Шанский
DESCRIPTION:Его называли отцом русской географии. Но Петр Петрович Семенов успел сделать невероятно много и для ботаники\, энтомологии\, метеорологии\, статистики\, искусствоведения\, а его работа в правительстве стала для современников образцом служения Отечеству. В этом удивительном человеке сочетались доброжелательность\, широта и открытость взглядов с невероятной твердостью в отстаивании своих убеждений. Столь неординарный характер\, несомненно\, достался Петру Петровичу Семенову от родителей. \nЧитайте статью Дмитрия Иванова: \nРыцарь науки
URL:https://rusmirjournal.ru/event/semenov-tian-shanski/
CATEGORIES:Люди
ATTACH;FMTTYPE=image/jpeg:https://rusmirjournal.ru/wp-content/uploads/2026/01/15062.jpg
END:VEVENT
BEGIN:VEVENT
DTSTART;VALUE=DATE:20260114
DTEND;VALUE=DATE:20260115
DTSTAMP:20260422T040427
CREATED:20260101T185100Z
LAST-MODIFIED:20260116T173713Z
UID:1209-1768348800-1768435199@rusmirjournal.ru
SUMMARY:В 1911 году родился Анатолий Аронов (Рыбаков)
DESCRIPTION:14 января 1911 года (1 января по старому стилю) родился Анатолий Наумович Аронов (Рыбаков). \nВодитель\, грузчик\, инженер. Осужденный за контрреволюционную агитацию и пропаганду. Фронтовик\, гвардии инженер-майор. Почетный доктор философии и лауреат государственных премий. Секретарь правления Союза писателей СССР. Автор книг\, изданных общим тиражом 20 миллионов экземпляров. Писатель Анатолий Рыбаков. \nЧитайте статью: \nКрылья бронзовой птицы.
URL:https://rusmirjournal.ru/event/ribakov/
CATEGORIES:Люди
ATTACH;FMTTYPE=image/jpeg:https://rusmirjournal.ru/wp-content/uploads/2025/12/35377.jpg
END:VEVENT
END:VCALENDAR